BEGIN:VCALENDAR
VERSION:2.0
PRODID:-//Financial Advice Association Australia - ECPv6.15.20//NONSGML v1.0//EN
CALSCALE:GREGORIAN
METHOD:PUBLISH
X-ORIGINAL-URL:https://faaa.au
X-WR-CALDESC:Events for Financial Advice Association Australia
REFRESH-INTERVAL;VALUE=DURATION:PT1H
X-Robots-Tag:noindex
X-PUBLISHED-TTL:PT1H
BEGIN:VTIMEZONE
TZID:Australia/Sydney
BEGIN:STANDARD
TZOFFSETFROM:+1100
TZOFFSETTO:+1000
TZNAME:AEST
DTSTART:20250405T160000
END:STANDARD
BEGIN:DAYLIGHT
TZOFFSETFROM:+1000
TZOFFSETTO:+1100
TZNAME:AEDT
DTSTART:20251004T160000
END:DAYLIGHT
BEGIN:STANDARD
TZOFFSETFROM:+1100
TZOFFSETTO:+1000
TZNAME:AEST
DTSTART:20260404T160000
END:STANDARD
BEGIN:DAYLIGHT
TZOFFSETFROM:+1000
TZOFFSETTO:+1100
TZNAME:AEDT
DTSTART:20261003T160000
END:DAYLIGHT
BEGIN:STANDARD
TZOFFSETFROM:+1100
TZOFFSETTO:+1000
TZNAME:AEST
DTSTART:20270403T160000
END:STANDARD
BEGIN:DAYLIGHT
TZOFFSETFROM:+1000
TZOFFSETTO:+1100
TZNAME:AEDT
DTSTART:20271002T160000
END:DAYLIGHT
END:VTIMEZONE
BEGIN:VEVENT
DTSTART;TZID=Australia/Sydney:20260416T173000
DTEND;TZID=Australia/Sydney:20260416T190000
DTSTAMP:20260423T122520
CREATED:20260306T015205Z
LAST-MODIFIED:20260306T020016Z
UID:10000317-1776360600-1776366000@faaa.au
SUMMARY:FAAA Albury Wodonga GEN NEXT  Ales & Tales Event
DESCRIPTION:Upcoming event\n				\n				\n						\n				\n				\n				\n					FAAA Albury Wodonga GEN NEXT Ales & Tales Event				\n				\n					\n				\n		\n					\n		\n				\n				\n							\n							\n											\n													\n										Thursday 16 April\n									\n								\n											\n													\n										5:30pm - 7:00pm\n									\n								\n											\n													\n										The Woolhouse\, 600 Dean Street\, Albury NSW\n									\n						\n						\n				\n		\n				\n				\n									\n					\n						\n									Member registration\n					\n					\n				\n								\n				\n				\n		\n				\n				\n									\n					\n						\n									Non member registration\n					\n					\n				\n								\n				\n				\n		\n				\n				\n									FAAA Event Code of Conduct 								\n				\n				\n				\n		\n				\n				\n																														\n				\n				\n					\n				\n		\n					\n		\n				\n				\n					Overview				\n				\n				\n				\n							\n			\n						\n		\n						\n				\n				\n				\n									Join us for Ales and Tales – an exciting networking event where you can socialise with business owners\, professionals\, and fellow financial planning students\, as well as advisers in the early stages of their careers\, in a fun and relaxed setting. Enjoy great conversations\, refreshing drinks and nibbles\, and engaging discussions on Artificial Intelligence (AI) and how it’s shaping the future of the financial planning profession. Whether you’re curious about AI\, keen to grow your network\, or simply looking for a relaxed evening of learning and connection\, this is an event you won’t want to miss.We look forward to seeing you there!FAAA Albury Wodonga Chapter 								\n				\n				\n					\n				\n		\n					\n		\n				\n				\n					Meet your speakers				\n				\n		\n		\n				\n				\n																														\n				\n				\n		\n				\n				\n									Name 								\n				\n				\n				\n									Title\, Company 								\n				\n				\n				\n									Bio 								\n				\n				\n				\n		\n		\n				\n				\n																														\n				\n				\n		\n				\n				\n									Name 								\n				\n				\n				\n									Title\, Company 								\n				\n				\n				\n									Bio 								\n				\n				\n				\n				\n					\n				\n		\n					\n		\n		\n				\n				\n					Cost				\n				\n				\n				\n							\n			\n						\n		\n						\n				\n				\n				\n									Complimentary for FAAA Members & Student members Non-members: $10 Inc. GST  If you are interested in becoming a student member ($0 Membership Fee) and attending this event for free\, please contact students@faaa.au.  								\n				\n				\n				\n		\n				\n					\n				\n		\n					\n				\n				\n							\n			\n		\n						\n				\n					\n				\n		\n					\n		\n				\n				\n					Thank you to our event supporters
URL:https://faaa.au/event/faaa-albury-wodonga-gen-next-ales-tales-event/
LOCATION:The Woolhouse\, 600 Dean Street\, Albury
CATEGORIES:Albury Wodonga Chapter,NSW & ACT Regional Community Events
ATTACH;FMTTYPE=image/png:https://faaa.au/wp-content/uploads/2026/03/Website-Events-Feature-Image-2.png
END:VEVENT
END:VCALENDAR