BEGIN:VCALENDAR
VERSION:2.0
PRODID:-//Financial Advice Association Australia - ECPv6.15.20//NONSGML v1.0//EN
CALSCALE:GREGORIAN
METHOD:PUBLISH
X-WR-CALNAME:Financial Advice Association Australia
X-ORIGINAL-URL:https://faaa.au
X-WR-CALDESC:Events for Financial Advice Association Australia
REFRESH-INTERVAL;VALUE=DURATION:PT1H
X-Robots-Tag:noindex
X-PUBLISHED-TTL:PT1H
BEGIN:VTIMEZONE
TZID:Australia/Sydney
BEGIN:STANDARD
TZOFFSETFROM:+1100
TZOFFSETTO:+1000
TZNAME:AEST
DTSTART:20250405T160000
END:STANDARD
BEGIN:DAYLIGHT
TZOFFSETFROM:+1000
TZOFFSETTO:+1100
TZNAME:AEDT
DTSTART:20251004T160000
END:DAYLIGHT
BEGIN:STANDARD
TZOFFSETFROM:+1100
TZOFFSETTO:+1000
TZNAME:AEST
DTSTART:20260404T160000
END:STANDARD
BEGIN:DAYLIGHT
TZOFFSETFROM:+1000
TZOFFSETTO:+1100
TZNAME:AEDT
DTSTART:20261003T160000
END:DAYLIGHT
BEGIN:STANDARD
TZOFFSETFROM:+1100
TZOFFSETTO:+1000
TZNAME:AEST
DTSTART:20270403T160000
END:STANDARD
BEGIN:DAYLIGHT
TZOFFSETFROM:+1000
TZOFFSETTO:+1100
TZNAME:AEDT
DTSTART:20271002T160000
END:DAYLIGHT
END:VTIMEZONE
BEGIN:VEVENT
DTSTART;TZID=Australia/Sydney:20260423T120000
DTEND;TZID=Australia/Sydney:20260423T131500
DTSTAMP:20260423T205640
CREATED:20251215T051404Z
LAST-MODIFIED:20251215T051404Z
UID:10000277-1776945600-1776950100@faaa.au
SUMMARY:Masterclass: Legacy\, fairness & ethical dilemmas in multi-generational planning
DESCRIPTION:Upcoming webinar\n				\n				\n						\n				\n				\n				\n					Preparing for the Financial Adviser Exam				\n				\n				\n					\n				\n		\n					\n		\n		\n				\n				\n							\n			\n						\n		\n						\n				\n				\n				\n									Tuesday 19 May 2026 								\n				\n				\n		\n				\n				\n							\n			\n						\n		\n						\n				\n				\n				\n									12:00pm-1:00pm AEST> 								\n				\n				\n		\n				\n				\n							\n			\n						\n		\n						\n				\n				\n				\n									Up to 1 CPD hours available  								\n				\n				\n		\n				\n				\n									\n					\n						\n									Register now\n					\n					\n				\n								\n				\n				\n				\n				\n									For guidance on creating your FAAA Learn account\, click here 								\n				\n				\n		\n				\n				\n																														\n				\n				\n					\n				\n		\n					\n		\n				\n				\n					Session Overview				\n				\n				\n				\n							\n			\n						\n		\n						\n				\n				\n				\n									Preparing for the ASIC Financial Adviser Exam can feel overwhelming—so we’re bringing together Professional Year (PY) candidates and new entrants to share their real-life experiences with the exam process. In this candid and supportive session\, you’ll hear firsthand how others approached their study\, what resources they used\, and the challenges they faced—whether they passed on the first go or are preparing to sit it again.This webinar will cover:• Study strategies that worked (and some that didn’t)• Popular resources and tools used for preparation• Time management tips and balancing study with work• Insights into tackling ethical scenarios and regulatory content• Advice on staying motivated and mentally preparedWhether you’re about to sit the exam or just starting to plan\, this session offers valuable peer insights and practical takeaways to help you navigate your own exam journey with greater confidence and clarity. 								\n				\n				\n					\n				\n		\n					\n				\n				\n					Meet your speakers				\n				\n					\n				\n		\n					\n		\n				\n				\n																														\n				\n				\n		\n				\n				\n									Jenna Marinucci 								\n				\n				\n				\n									Associate Adviser\, Marin Wealth 								\n				\n				\n				\n									Jenna Marinucci is an Associate Adviser at Marin Wealth and holds a Bachelor of Business from Griffith University\, majoring in Financial Planning and Taxation. She began her career in financial advice in 2021 and has developed experience across the advice process\, with a focus on helping clients make informed financial decisions and supporting them throughout their financial journey. 								\n				\n				\n					\n				\n		\n					\n		\n				\n				\n																														\n				\n				\n		\n				\n				\n									Jessie-Lee Curtis 								\n				\n				\n				\n									Professional Year Candidate\, BWC Wealth Partners 								\n				\n				\n				\n									Jessie is an aspiring financial adviser that has completed her Bachelor of Commerce\, majoring in Accounting and Financial Planning. She passed the financial adviser exam ahead of graduating\, with a clear focus on accelerating her journey into the profession. Jessie draws on her background in accounting\, prior experience in banking\, and a proactive approach to learning — having immersed herself in the profession through events\, networking\, and an internship — to build a strong foundation in financial advice. Jessie has served on the FAAA Emerging Professionals Committee and is passionate about supporting new entrants and career changers as they navigate the early stages of their advice careers. A 2025 finalist for Women in Wealth’s Graduate of the Year\, she is dedicated to increasing the visibility and participation of women in financial advice. 								\n				\n				\n					\n				\n		\n					\n		\n				\n				\n																														\n				\n				\n		\n				\n				\n									Joel Perryman 								\n				\n				\n				\n									Financial Adviser\, Integritas Wealth Advisers 								\n				\n				\n				\n									Joel Perryman is a Financial Adviser with a unique career journey\, transitioning from gym owner to financial advice professional. Joel has served as Chair of the FAAA Emerging Professionals Committee and was a 2025 finalist for the prestigious Tony Munday Award. A career-changer\, Joel brings a diverse skill set and a client-first approach\, underpinned by his completion of the Bachelor of Financial Advice at the University of South Australia in 2023. He thrives on helping people take control of their financial future\, blending technical knowledge with genuine care and understanding. Outside of work\, Joel is a devoted husband and dad\, a passionate Richmond Tigers supporter\, and a self-confessed all-round nerd. 								\n				\n				\n					\n				\n		\n					\n		\n				\n				\n																														\n				\n				\n		\n				\n				\n									Rocco Liuzzi 								\n				\n				\n				\n									Principal Financial Adviser\, Your Wealth Journey 								\n				\n				\n				\n									Rocco Liuzzi is the Principal Financial Adviser at Your Wealth Journey(YWJ)\, where he provides tailored\, client-first advice focused on long-term outcomes. With a background in corporate finance\, Rocco is known for his clear communication\, genuine care\, and ability to simplify complex financial decisions. Rocco feels very fortunate to be part of a new wave of advisers entering the industry\, bringing a fresh\, client-centric approach to financial advice. He is passionate about building lasting relationships and guiding clients through every stage of their financial journey with confidence and clarity.
URL:https://faaa.au/event/masterclass-legacy-fairness-ethical-dilemmas-in-multi-generational-planning/
CATEGORIES:Virtual
ATTACH;FMTTYPE=image/png:https://faaa.au/wp-content/uploads/2025/12/8.png
END:VEVENT
BEGIN:VEVENT
DTSTART;TZID=Australia/Sydney:20260427T071500
DTEND;TZID=Australia/Sydney:20260427T150000
DTSTAMP:20260423T205640
CREATED:20260213T041721Z
LAST-MODIFIED:20260420T235238Z
UID:10000305-1777274100-1777302000@faaa.au
SUMMARY:SOLD OUT 2026 FAAA Melbourne Metro Community Annual Golf Day
DESCRIPTION:Upcoming webinar\n				\n				\n						\n				\n				\n				\n					Preparing for the Financial Adviser Exam				\n				\n				\n					\n				\n		\n					\n		\n		\n				\n				\n							\n			\n						\n		\n						\n				\n				\n				\n									Tuesday 19 May 2026 								\n				\n				\n		\n				\n				\n							\n			\n						\n		\n						\n				\n				\n				\n									12:00pm-1:00pm AEST> 								\n				\n				\n		\n				\n				\n							\n			\n						\n		\n						\n				\n				\n				\n									Up to 1 CPD hours available  								\n				\n				\n		\n				\n				\n									\n					\n						\n									Register now\n					\n					\n				\n								\n				\n				\n				\n				\n									For guidance on creating your FAAA Learn account\, click here 								\n				\n				\n		\n				\n				\n																														\n				\n				\n					\n				\n		\n					\n		\n				\n				\n					Session Overview				\n				\n				\n				\n							\n			\n						\n		\n						\n				\n				\n				\n									Preparing for the ASIC Financial Adviser Exam can feel overwhelming—so we’re bringing together Professional Year (PY) candidates and new entrants to share their real-life experiences with the exam process. In this candid and supportive session\, you’ll hear firsthand how others approached their study\, what resources they used\, and the challenges they faced—whether they passed on the first go or are preparing to sit it again.This webinar will cover:• Study strategies that worked (and some that didn’t)• Popular resources and tools used for preparation• Time management tips and balancing study with work• Insights into tackling ethical scenarios and regulatory content• Advice on staying motivated and mentally preparedWhether you’re about to sit the exam or just starting to plan\, this session offers valuable peer insights and practical takeaways to help you navigate your own exam journey with greater confidence and clarity. 								\n				\n				\n					\n				\n		\n					\n				\n				\n					Meet your speakers				\n				\n					\n				\n		\n					\n		\n				\n				\n																														\n				\n				\n		\n				\n				\n									Jenna Marinucci 								\n				\n				\n				\n									Associate Adviser\, Marin Wealth 								\n				\n				\n				\n									Jenna Marinucci is an Associate Adviser at Marin Wealth and holds a Bachelor of Business from Griffith University\, majoring in Financial Planning and Taxation. She began her career in financial advice in 2021 and has developed experience across the advice process\, with a focus on helping clients make informed financial decisions and supporting them throughout their financial journey. 								\n				\n				\n					\n				\n		\n					\n		\n				\n				\n																														\n				\n				\n		\n				\n				\n									Jessie-Lee Curtis 								\n				\n				\n				\n									Professional Year Candidate\, BWC Wealth Partners 								\n				\n				\n				\n									Jessie is an aspiring financial adviser that has completed her Bachelor of Commerce\, majoring in Accounting and Financial Planning. She passed the financial adviser exam ahead of graduating\, with a clear focus on accelerating her journey into the profession. Jessie draws on her background in accounting\, prior experience in banking\, and a proactive approach to learning — having immersed herself in the profession through events\, networking\, and an internship — to build a strong foundation in financial advice. Jessie has served on the FAAA Emerging Professionals Committee and is passionate about supporting new entrants and career changers as they navigate the early stages of their advice careers. A 2025 finalist for Women in Wealth’s Graduate of the Year\, she is dedicated to increasing the visibility and participation of women in financial advice. 								\n				\n				\n					\n				\n		\n					\n		\n				\n				\n																														\n				\n				\n		\n				\n				\n									Joel Perryman 								\n				\n				\n				\n									Financial Adviser\, Integritas Wealth Advisers 								\n				\n				\n				\n									Joel Perryman is a Financial Adviser with a unique career journey\, transitioning from gym owner to financial advice professional. Joel has served as Chair of the FAAA Emerging Professionals Committee and was a 2025 finalist for the prestigious Tony Munday Award. A career-changer\, Joel brings a diverse skill set and a client-first approach\, underpinned by his completion of the Bachelor of Financial Advice at the University of South Australia in 2023. He thrives on helping people take control of their financial future\, blending technical knowledge with genuine care and understanding. Outside of work\, Joel is a devoted husband and dad\, a passionate Richmond Tigers supporter\, and a self-confessed all-round nerd. 								\n				\n				\n					\n				\n		\n					\n		\n				\n				\n																														\n				\n				\n		\n				\n				\n									Rocco Liuzzi 								\n				\n				\n				\n									Principal Financial Adviser\, Your Wealth Journey 								\n				\n				\n				\n									Rocco Liuzzi is the Principal Financial Adviser at Your Wealth Journey(YWJ)\, where he provides tailored\, client-first advice focused on long-term outcomes. With a background in corporate finance\, Rocco is known for his clear communication\, genuine care\, and ability to simplify complex financial decisions. Rocco feels very fortunate to be part of a new wave of advisers entering the industry\, bringing a fresh\, client-centric approach to financial advice. He is passionate about building lasting relationships and guiding clients through every stage of their financial journey with confidence and clarity.
URL:https://faaa.au/event/2026-faaa-melbourne-metro-community-annual-golf-day/
LOCATION:Latrobe Golf Club\, 8 Farm Road\, Alphington VIC
CATEGORIES:Melbourne Metro Community Events
ATTACH;FMTTYPE=image/png:https://faaa.au/wp-content/uploads/2026/02/Website-Events-Feature-Image-25.png
END:VEVENT
BEGIN:VEVENT
DTSTART;VALUE=DATE:20260428
DTEND;VALUE=DATE:20260429
DTSTAMP:20260423T205640
CREATED:20250728T035808Z
LAST-MODIFIED:20260325T041952Z
UID:10000214-1777334400-1777420799@faaa.au
SUMMARY:FAAA Roadshow: Brisbane
DESCRIPTION:Upcoming webinar\n				\n				\n						\n				\n				\n				\n					Preparing for the Financial Adviser Exam				\n				\n				\n					\n				\n		\n					\n		\n		\n				\n				\n							\n			\n						\n		\n						\n				\n				\n				\n									Tuesday 19 May 2026 								\n				\n				\n		\n				\n				\n							\n			\n						\n		\n						\n				\n				\n				\n									12:00pm-1:00pm AEST> 								\n				\n				\n		\n				\n				\n							\n			\n						\n		\n						\n				\n				\n				\n									Up to 1 CPD hours available  								\n				\n				\n		\n				\n				\n									\n					\n						\n									Register now\n					\n					\n				\n								\n				\n				\n				\n				\n									For guidance on creating your FAAA Learn account\, click here 								\n				\n				\n		\n				\n				\n																														\n				\n				\n					\n				\n		\n					\n		\n				\n				\n					Session Overview				\n				\n				\n				\n							\n			\n						\n		\n						\n				\n				\n				\n									Preparing for the ASIC Financial Adviser Exam can feel overwhelming—so we’re bringing together Professional Year (PY) candidates and new entrants to share their real-life experiences with the exam process. In this candid and supportive session\, you’ll hear firsthand how others approached their study\, what resources they used\, and the challenges they faced—whether they passed on the first go or are preparing to sit it again.This webinar will cover:• Study strategies that worked (and some that didn’t)• Popular resources and tools used for preparation• Time management tips and balancing study with work• Insights into tackling ethical scenarios and regulatory content• Advice on staying motivated and mentally preparedWhether you’re about to sit the exam or just starting to plan\, this session offers valuable peer insights and practical takeaways to help you navigate your own exam journey with greater confidence and clarity. 								\n				\n				\n					\n				\n		\n					\n				\n				\n					Meet your speakers				\n				\n					\n				\n		\n					\n		\n				\n				\n																														\n				\n				\n		\n				\n				\n									Jenna Marinucci 								\n				\n				\n				\n									Associate Adviser\, Marin Wealth 								\n				\n				\n				\n									Jenna Marinucci is an Associate Adviser at Marin Wealth and holds a Bachelor of Business from Griffith University\, majoring in Financial Planning and Taxation. She began her career in financial advice in 2021 and has developed experience across the advice process\, with a focus on helping clients make informed financial decisions and supporting them throughout their financial journey. 								\n				\n				\n					\n				\n		\n					\n		\n				\n				\n																														\n				\n				\n		\n				\n				\n									Jessie-Lee Curtis 								\n				\n				\n				\n									Professional Year Candidate\, BWC Wealth Partners 								\n				\n				\n				\n									Jessie is an aspiring financial adviser that has completed her Bachelor of Commerce\, majoring in Accounting and Financial Planning. She passed the financial adviser exam ahead of graduating\, with a clear focus on accelerating her journey into the profession. Jessie draws on her background in accounting\, prior experience in banking\, and a proactive approach to learning — having immersed herself in the profession through events\, networking\, and an internship — to build a strong foundation in financial advice. Jessie has served on the FAAA Emerging Professionals Committee and is passionate about supporting new entrants and career changers as they navigate the early stages of their advice careers. A 2025 finalist for Women in Wealth’s Graduate of the Year\, she is dedicated to increasing the visibility and participation of women in financial advice. 								\n				\n				\n					\n				\n		\n					\n		\n				\n				\n																														\n				\n				\n		\n				\n				\n									Joel Perryman 								\n				\n				\n				\n									Financial Adviser\, Integritas Wealth Advisers 								\n				\n				\n				\n									Joel Perryman is a Financial Adviser with a unique career journey\, transitioning from gym owner to financial advice professional. Joel has served as Chair of the FAAA Emerging Professionals Committee and was a 2025 finalist for the prestigious Tony Munday Award. A career-changer\, Joel brings a diverse skill set and a client-first approach\, underpinned by his completion of the Bachelor of Financial Advice at the University of South Australia in 2023. He thrives on helping people take control of their financial future\, blending technical knowledge with genuine care and understanding. Outside of work\, Joel is a devoted husband and dad\, a passionate Richmond Tigers supporter\, and a self-confessed all-round nerd. 								\n				\n				\n					\n				\n		\n					\n		\n				\n				\n																														\n				\n				\n		\n				\n				\n									Rocco Liuzzi 								\n				\n				\n				\n									Principal Financial Adviser\, Your Wealth Journey 								\n				\n				\n				\n									Rocco Liuzzi is the Principal Financial Adviser at Your Wealth Journey(YWJ)\, where he provides tailored\, client-first advice focused on long-term outcomes. With a background in corporate finance\, Rocco is known for his clear communication\, genuine care\, and ability to simplify complex financial decisions. Rocco feels very fortunate to be part of a new wave of advisers entering the industry\, bringing a fresh\, client-centric approach to financial advice. He is passionate about building lasting relationships and guiding clients through every stage of their financial journey with confidence and clarity.
URL:https://faaa.au/event/faaa-roadshow-2026-brisbane/
LOCATION:Brisbane Convention and Exhibition Centre\, Merivale Street\, South Brisbane
CATEGORIES:Brisbane Metro Community,National
ATTACH;FMTTYPE=image/png:https://faaa.au/wp-content/uploads/2025/07/Professional-Development-Lunch.png
END:VEVENT
BEGIN:VEVENT
DTSTART;VALUE=DATE:20260430
DTEND;VALUE=DATE:20260501
DTSTAMP:20260423T205640
CREATED:20250728T040035Z
LAST-MODIFIED:20260325T041845Z
UID:10000215-1777507200-1777593599@faaa.au
SUMMARY:FAAA Roadshow: Canberra
DESCRIPTION:Upcoming webinar\n				\n				\n						\n				\n				\n				\n					Preparing for the Financial Adviser Exam				\n				\n				\n					\n				\n		\n					\n		\n		\n				\n				\n							\n			\n						\n		\n						\n				\n				\n				\n									Tuesday 19 May 2026 								\n				\n				\n		\n				\n				\n							\n			\n						\n		\n						\n				\n				\n				\n									12:00pm-1:00pm AEST> 								\n				\n				\n		\n				\n				\n							\n			\n						\n		\n						\n				\n				\n				\n									Up to 1 CPD hours available  								\n				\n				\n		\n				\n				\n									\n					\n						\n									Register now\n					\n					\n				\n								\n				\n				\n				\n				\n									For guidance on creating your FAAA Learn account\, click here 								\n				\n				\n		\n				\n				\n																														\n				\n				\n					\n				\n		\n					\n		\n				\n				\n					Session Overview				\n				\n				\n				\n							\n			\n						\n		\n						\n				\n				\n				\n									Preparing for the ASIC Financial Adviser Exam can feel overwhelming—so we’re bringing together Professional Year (PY) candidates and new entrants to share their real-life experiences with the exam process. In this candid and supportive session\, you’ll hear firsthand how others approached their study\, what resources they used\, and the challenges they faced—whether they passed on the first go or are preparing to sit it again.This webinar will cover:• Study strategies that worked (and some that didn’t)• Popular resources and tools used for preparation• Time management tips and balancing study with work• Insights into tackling ethical scenarios and regulatory content• Advice on staying motivated and mentally preparedWhether you’re about to sit the exam or just starting to plan\, this session offers valuable peer insights and practical takeaways to help you navigate your own exam journey with greater confidence and clarity. 								\n				\n				\n					\n				\n		\n					\n				\n				\n					Meet your speakers				\n				\n					\n				\n		\n					\n		\n				\n				\n																														\n				\n				\n		\n				\n				\n									Jenna Marinucci 								\n				\n				\n				\n									Associate Adviser\, Marin Wealth 								\n				\n				\n				\n									Jenna Marinucci is an Associate Adviser at Marin Wealth and holds a Bachelor of Business from Griffith University\, majoring in Financial Planning and Taxation. She began her career in financial advice in 2021 and has developed experience across the advice process\, with a focus on helping clients make informed financial decisions and supporting them throughout their financial journey. 								\n				\n				\n					\n				\n		\n					\n		\n				\n				\n																														\n				\n				\n		\n				\n				\n									Jessie-Lee Curtis 								\n				\n				\n				\n									Professional Year Candidate\, BWC Wealth Partners 								\n				\n				\n				\n									Jessie is an aspiring financial adviser that has completed her Bachelor of Commerce\, majoring in Accounting and Financial Planning. She passed the financial adviser exam ahead of graduating\, with a clear focus on accelerating her journey into the profession. Jessie draws on her background in accounting\, prior experience in banking\, and a proactive approach to learning — having immersed herself in the profession through events\, networking\, and an internship — to build a strong foundation in financial advice. Jessie has served on the FAAA Emerging Professionals Committee and is passionate about supporting new entrants and career changers as they navigate the early stages of their advice careers. A 2025 finalist for Women in Wealth’s Graduate of the Year\, she is dedicated to increasing the visibility and participation of women in financial advice. 								\n				\n				\n					\n				\n		\n					\n		\n				\n				\n																														\n				\n				\n		\n				\n				\n									Joel Perryman 								\n				\n				\n				\n									Financial Adviser\, Integritas Wealth Advisers 								\n				\n				\n				\n									Joel Perryman is a Financial Adviser with a unique career journey\, transitioning from gym owner to financial advice professional. Joel has served as Chair of the FAAA Emerging Professionals Committee and was a 2025 finalist for the prestigious Tony Munday Award. A career-changer\, Joel brings a diverse skill set and a client-first approach\, underpinned by his completion of the Bachelor of Financial Advice at the University of South Australia in 2023. He thrives on helping people take control of their financial future\, blending technical knowledge with genuine care and understanding. Outside of work\, Joel is a devoted husband and dad\, a passionate Richmond Tigers supporter\, and a self-confessed all-round nerd. 								\n				\n				\n					\n				\n		\n					\n		\n				\n				\n																														\n				\n				\n		\n				\n				\n									Rocco Liuzzi 								\n				\n				\n				\n									Principal Financial Adviser\, Your Wealth Journey 								\n				\n				\n				\n									Rocco Liuzzi is the Principal Financial Adviser at Your Wealth Journey(YWJ)\, where he provides tailored\, client-first advice focused on long-term outcomes. With a background in corporate finance\, Rocco is known for his clear communication\, genuine care\, and ability to simplify complex financial decisions. Rocco feels very fortunate to be part of a new wave of advisers entering the industry\, bringing a fresh\, client-centric approach to financial advice. He is passionate about building lasting relationships and guiding clients through every stage of their financial journey with confidence and clarity.
URL:https://faaa.au/event/faaa-roadshow-2026-canberra/
LOCATION:The Boat House\, Grevillea Park\, Menindee Drive\, Barton
CATEGORIES:ACT Chapter,National
ATTACH;FMTTYPE=image/png:https://faaa.au/wp-content/uploads/2025/07/Can.png
END:VEVENT
END:VCALENDAR