BEGIN:VCALENDAR
VERSION:2.0
PRODID:-//Financial Advice Association Australia - ECPv6.15.20//NONSGML v1.0//EN
CALSCALE:GREGORIAN
METHOD:PUBLISH
X-ORIGINAL-URL:https://faaa.au
X-WR-CALDESC:Events for Financial Advice Association Australia
REFRESH-INTERVAL;VALUE=DURATION:PT1H
X-Robots-Tag:noindex
X-PUBLISHED-TTL:PT1H
BEGIN:VTIMEZONE
TZID:Australia/Sydney
BEGIN:STANDARD
TZOFFSETFROM:+1100
TZOFFSETTO:+1000
TZNAME:AEST
DTSTART:20250405T160000
END:STANDARD
BEGIN:DAYLIGHT
TZOFFSETFROM:+1000
TZOFFSETTO:+1100
TZNAME:AEDT
DTSTART:20251004T160000
END:DAYLIGHT
BEGIN:STANDARD
TZOFFSETFROM:+1100
TZOFFSETTO:+1000
TZNAME:AEST
DTSTART:20260404T160000
END:STANDARD
BEGIN:DAYLIGHT
TZOFFSETFROM:+1000
TZOFFSETTO:+1100
TZNAME:AEDT
DTSTART:20261003T160000
END:DAYLIGHT
BEGIN:STANDARD
TZOFFSETFROM:+1100
TZOFFSETTO:+1000
TZNAME:AEST
DTSTART:20270403T160000
END:STANDARD
BEGIN:DAYLIGHT
TZOFFSETFROM:+1000
TZOFFSETTO:+1100
TZNAME:AEDT
DTSTART:20271002T160000
END:DAYLIGHT
END:VTIMEZONE
BEGIN:VEVENT
DTSTART;VALUE=DATE:20260428
DTEND;VALUE=DATE:20260429
DTSTAMP:20260421T004936
CREATED:20250728T035808Z
LAST-MODIFIED:20260325T041952Z
UID:10000214-1777334400-1777420799@faaa.au
SUMMARY:FAAA Roadshow: Brisbane
DESCRIPTION:
URL:https://faaa.au/event/faaa-roadshow-2026-brisbane/
LOCATION:Brisbane Convention and Exhibition Centre\, Merivale Street\, South Brisbane
CATEGORIES:Brisbane Metro Community,National
ATTACH;FMTTYPE=image/png:https://faaa.au/wp-content/uploads/2025/07/Professional-Development-Lunch.png
END:VEVENT
BEGIN:VEVENT
DTSTART;VALUE=DATE:20260430
DTEND;VALUE=DATE:20260501
DTSTAMP:20260421T004936
CREATED:20250728T040035Z
LAST-MODIFIED:20260325T041845Z
UID:10000215-1777507200-1777593599@faaa.au
SUMMARY:FAAA Roadshow: Canberra
DESCRIPTION:
URL:https://faaa.au/event/faaa-roadshow-2026-canberra/
LOCATION:The Boat House\, Grevillea Park\, Menindee Drive\, Barton
CATEGORIES:ACT Chapter,National
ATTACH;FMTTYPE=image/png:https://faaa.au/wp-content/uploads/2025/07/Can.png
END:VEVENT
BEGIN:VEVENT
DTSTART;VALUE=DATE:20260505
DTEND;VALUE=DATE:20260506
DTSTAMP:20260421T004936
CREATED:20250728T040123Z
LAST-MODIFIED:20260325T041926Z
UID:10000216-1777939200-1778025599@faaa.au
SUMMARY:FAAA Roadshow: Melbourne
DESCRIPTION:
URL:https://faaa.au/event/faaa-roadshow-2026-melbourne/
LOCATION:Melbourne Convention and Exhibition Centre\, 1 Convention Centre Place\, South Wharf
CATEGORIES:Melbourne Metro Community Events,National
ATTACH;FMTTYPE=image/png:https://faaa.au/wp-content/uploads/2025/07/Mel.png
END:VEVENT
BEGIN:VEVENT
DTSTART;VALUE=DATE:20260507
DTEND;VALUE=DATE:20260508
DTSTAMP:20260421T004936
CREATED:20250728T040331Z
LAST-MODIFIED:20260325T041814Z
UID:10000217-1778112000-1778198399@faaa.au
SUMMARY:FAAA Roadshow: Sydney
DESCRIPTION:
URL:https://faaa.au/event/faaa-roadshow-2026-sydney/
LOCATION:ICC Sydney\, 14 Darling Drive\, Sydney
CATEGORIES:National,Sydney Metro Community Events
ATTACH;FMTTYPE=image/png:https://faaa.au/wp-content/uploads/2025/07/Syd.png
END:VEVENT
BEGIN:VEVENT
DTSTART;VALUE=DATE:20260513
DTEND;VALUE=DATE:20260514
DTSTAMP:20260421T004936
CREATED:20250728T040439Z
LAST-MODIFIED:20260325T041230Z
UID:10000218-1778630400-1778716799@faaa.au
SUMMARY:FAAA Roadshow: Adelaide
DESCRIPTION:
URL:https://faaa.au/event/faaa-roadshow-2026-adelaide/
LOCATION:Adelaide Convention Centre\, North Terrace\, Adelaide
CATEGORIES:National,South Australia State Community Events
ATTACH;FMTTYPE=image/png:https://faaa.au/wp-content/uploads/2025/07/Adel.png
END:VEVENT
BEGIN:VEVENT
DTSTART;VALUE=DATE:20260515
DTEND;VALUE=DATE:20260516
DTSTAMP:20260421T004936
CREATED:20250728T041035Z
LAST-MODIFIED:20260325T042048Z
UID:10000219-1778803200-1778889599@faaa.au
SUMMARY:FAAA Roadshow: Perth
DESCRIPTION:
URL:https://faaa.au/event/faaa-roadshow-2026-perth/
LOCATION:Perth Convention and Exhibition Centre\, 21 Mounts Bay Road\, Perth
CATEGORIES:National,Western Australia State Community
ATTACH;FMTTYPE=image/png:https://faaa.au/wp-content/uploads/2025/07/Per.png
END:VEVENT
END:VCALENDAR