BEGIN:VCALENDAR
VERSION:2.0
PRODID:-//Financial Advice Association Australia - ECPv6.15.20//NONSGML v1.0//EN
CALSCALE:GREGORIAN
METHOD:PUBLISH
X-WR-CALNAME:Financial Advice Association Australia
X-ORIGINAL-URL:https://faaa.au
X-WR-CALDESC:Events for Financial Advice Association Australia
REFRESH-INTERVAL;VALUE=DURATION:PT1H
X-Robots-Tag:noindex
X-PUBLISHED-TTL:PT1H
BEGIN:VTIMEZONE
TZID:Australia/Sydney
BEGIN:STANDARD
TZOFFSETFROM:+1100
TZOFFSETTO:+1000
TZNAME:AEST
DTSTART:20250405T160000
END:STANDARD
BEGIN:DAYLIGHT
TZOFFSETFROM:+1000
TZOFFSETTO:+1100
TZNAME:AEDT
DTSTART:20251004T160000
END:DAYLIGHT
BEGIN:STANDARD
TZOFFSETFROM:+1100
TZOFFSETTO:+1000
TZNAME:AEST
DTSTART:20260404T160000
END:STANDARD
BEGIN:DAYLIGHT
TZOFFSETFROM:+1000
TZOFFSETTO:+1100
TZNAME:AEDT
DTSTART:20261003T160000
END:DAYLIGHT
BEGIN:STANDARD
TZOFFSETFROM:+1100
TZOFFSETTO:+1000
TZNAME:AEST
DTSTART:20270403T160000
END:STANDARD
BEGIN:DAYLIGHT
TZOFFSETFROM:+1000
TZOFFSETTO:+1100
TZNAME:AEDT
DTSTART:20271002T160000
END:DAYLIGHT
END:VTIMEZONE
BEGIN:VEVENT
DTSTART;TZID=Australia/Sydney:20260326T103000
DTEND;TZID=Australia/Sydney:20260326T203000
DTSTAMP:20260423T222502
CREATED:20251215T043257Z
LAST-MODIFIED:20251215T044300Z
UID:10000268-1774521000-1774557000@faaa.au
SUMMARY:Golf Day
DESCRIPTION:Upcoming webinar\n				\n				\n						\n				\n				\n				\n					Being Self Licensed: Is it right for you?				\n				\n				\n					\n				\n		\n					\n		\n		\n				\n				\n							\n			\n						\n		\n						\n				\n				\n				\n									Tuesday 21 April 2026 								\n				\n				\n		\n				\n				\n							\n			\n						\n		\n						\n				\n				\n				\n									12:00pm – 1:00pm AEST 								\n				\n				\n		\n				\n				\n							\n			\n						\n		\n						\n				\n				\n				\n									Up to1 CPD hour available  								\n				\n				\n		\n				\n				\n									\n					\n						\n									Register now\n					\n					\n				\n								\n				\n				\n				\n				\n									For guidance on creating your FAAA Learn account\, click here 								\n				\n				\n		\n				\n				\n																														\n				\n				\n					\n				\n		\n					\n		\n				\n				\n					Session Overview				\n				\n				\n				\n							\n			\n						\n		\n						\n				\n				\n				\n									Thinking about self-licensing or choosing the right licensee? Join our industry experts as they share real-world insights\, regulatory essentials\, and strategic considerations for advisers exploring their licensing options. From ASIC requirements and risk management to commercial realities and ethical freedom\, this session will help you weigh the benefits and challenges of going it alone versus joining a licensee. Model-agnostic and practitioner-focused – make the call that works for you. 								\n				\n				\n					\n				\n		\n					\n				\n				\n					Meet your speakers				\n				\n					\n				\n		\n					\n		\n				\n				\n																														\n				\n				\n		\n				\n				\n									Alistair Hemming 								\n				\n				\n				\n									Founder\, Zaju & Co 								\n				\n				\n				\n									Alistair\, the founder of Zaju & Company\, established the firm in 2018. With over two decades of experience in the planning industry\, he brings a wealth of expertise to both our team and our clients. Alistair holds qualifications in Business\, Financial Planning\, and Finance and Mortgage Broking Management. He has acted as a responsible manager\, passed the financial adviser exam\, and met all bridging course requirements. As a member of the Financial Advice Association of Australia\, Alistair ensures that Zaju & Company adheres to the highest industry standards. His leadership and innovative approach are key drivers of ours and our client’s ongoing success. 								\n				\n				\n					\n				\n		\n					\n		\n				\n				\n																														\n				\n				\n		\n				\n				\n									Sheila Guttierez-Cabacungan CFP® 								\n				\n				\n				\n									Principal Financial Planner\, Wealth Forum 								\n				\n				\n				\n									Sheila is the Principal Financial Planner and owner of Wealth Forum\, a small self-licensed practice in Sydney’s West. She is the Chair of the new Sydney Metro Community as well as having been a member of the Sydney Chapter since 2010\, a Western Sydney Ambassador and a Women in Financial Planning Champion. Sheila is passionate about financial literacy and engaging with students and academics to advocate for careers in financial advice. In addition to being a CERTIFED FINANCIAL PLANNER® professional\, Sheila is also a SMSF Specialist Adviser® and holds a Bachelor of Economics.
URL:https://faaa.au/event/golf-day/
LOCATION:West Lakes Golf Club\, 26 Lochside Drive\, West Lakes SA
CATEGORIES:South Australia State Community Events
ATTACH;FMTTYPE=image/png:https://faaa.au/wp-content/uploads/2025/12/Website-Events-Feature-Image-68.png
END:VEVENT
BEGIN:VEVENT
DTSTART;TZID=Australia/Sydney:20260325T120000
DTEND;TZID=Australia/Sydney:20260325T130000
DTSTAMP:20260423T222502
CREATED:20260302T002655Z
LAST-MODIFIED:20260302T003623Z
UID:10000315-1774440000-1774443600@faaa.au
SUMMARY:Webinar: In Conversation with Sarah & David: Advocacy & Projects Update
DESCRIPTION:Upcoming webinar\n				\n				\n						\n				\n				\n				\n					Being Self Licensed: Is it right for you?				\n				\n				\n					\n				\n		\n					\n		\n		\n				\n				\n							\n			\n						\n		\n						\n				\n				\n				\n									Tuesday 21 April 2026 								\n				\n				\n		\n				\n				\n							\n			\n						\n		\n						\n				\n				\n				\n									12:00pm – 1:00pm AEST 								\n				\n				\n		\n				\n				\n							\n			\n						\n		\n						\n				\n				\n				\n									Up to1 CPD hour available  								\n				\n				\n		\n				\n				\n									\n					\n						\n									Register now\n					\n					\n				\n								\n				\n				\n				\n				\n									For guidance on creating your FAAA Learn account\, click here 								\n				\n				\n		\n				\n				\n																														\n				\n				\n					\n				\n		\n					\n		\n				\n				\n					Session Overview				\n				\n				\n				\n							\n			\n						\n		\n						\n				\n				\n				\n									Thinking about self-licensing or choosing the right licensee? Join our industry experts as they share real-world insights\, regulatory essentials\, and strategic considerations for advisers exploring their licensing options. From ASIC requirements and risk management to commercial realities and ethical freedom\, this session will help you weigh the benefits and challenges of going it alone versus joining a licensee. Model-agnostic and practitioner-focused – make the call that works for you. 								\n				\n				\n					\n				\n		\n					\n				\n				\n					Meet your speakers				\n				\n					\n				\n		\n					\n		\n				\n				\n																														\n				\n				\n		\n				\n				\n									Alistair Hemming 								\n				\n				\n				\n									Founder\, Zaju & Co 								\n				\n				\n				\n									Alistair\, the founder of Zaju & Company\, established the firm in 2018. With over two decades of experience in the planning industry\, he brings a wealth of expertise to both our team and our clients. Alistair holds qualifications in Business\, Financial Planning\, and Finance and Mortgage Broking Management. He has acted as a responsible manager\, passed the financial adviser exam\, and met all bridging course requirements. As a member of the Financial Advice Association of Australia\, Alistair ensures that Zaju & Company adheres to the highest industry standards. His leadership and innovative approach are key drivers of ours and our client’s ongoing success. 								\n				\n				\n					\n				\n		\n					\n		\n				\n				\n																														\n				\n				\n		\n				\n				\n									Sheila Guttierez-Cabacungan CFP® 								\n				\n				\n				\n									Principal Financial Planner\, Wealth Forum 								\n				\n				\n				\n									Sheila is the Principal Financial Planner and owner of Wealth Forum\, a small self-licensed practice in Sydney’s West. She is the Chair of the new Sydney Metro Community as well as having been a member of the Sydney Chapter since 2010\, a Western Sydney Ambassador and a Women in Financial Planning Champion. Sheila is passionate about financial literacy and engaging with students and academics to advocate for careers in financial advice. In addition to being a CERTIFED FINANCIAL PLANNER® professional\, Sheila is also a SMSF Specialist Adviser® and holds a Bachelor of Economics.
URL:https://faaa.au/event/webinar-in-conversation-with-sarah-david-advocacy-projects-update/
CATEGORIES:Virtual
ATTACH;FMTTYPE=image/png:https://faaa.au/wp-content/uploads/2025/10/Website-Events-Feature-Image-61.png
END:VEVENT
END:VCALENDAR