BEGIN:VCALENDAR
VERSION:2.0
PRODID:-//Financial Advice Association Australia - ECPv6.15.20//NONSGML v1.0//EN
CALSCALE:GREGORIAN
METHOD:PUBLISH
X-ORIGINAL-URL:https://faaa.au
X-WR-CALDESC:Events for Financial Advice Association Australia
REFRESH-INTERVAL;VALUE=DURATION:PT1H
X-Robots-Tag:noindex
X-PUBLISHED-TTL:PT1H
BEGIN:VTIMEZONE
TZID:Australia/Sydney
BEGIN:STANDARD
TZOFFSETFROM:+1100
TZOFFSETTO:+1000
TZNAME:AEST
DTSTART:20250405T160000
END:STANDARD
BEGIN:DAYLIGHT
TZOFFSETFROM:+1000
TZOFFSETTO:+1100
TZNAME:AEDT
DTSTART:20251004T160000
END:DAYLIGHT
BEGIN:STANDARD
TZOFFSETFROM:+1100
TZOFFSETTO:+1000
TZNAME:AEST
DTSTART:20260404T160000
END:STANDARD
BEGIN:DAYLIGHT
TZOFFSETFROM:+1000
TZOFFSETTO:+1100
TZNAME:AEDT
DTSTART:20261003T160000
END:DAYLIGHT
BEGIN:STANDARD
TZOFFSETFROM:+1100
TZOFFSETTO:+1000
TZNAME:AEST
DTSTART:20270403T160000
END:STANDARD
BEGIN:DAYLIGHT
TZOFFSETFROM:+1000
TZOFFSETTO:+1100
TZNAME:AEDT
DTSTART:20271002T160000
END:DAYLIGHT
END:VTIMEZONE
BEGIN:VTIMEZONE
TZID:Australia/Perth
BEGIN:STANDARD
TZOFFSETFROM:+0800
TZOFFSETTO:+0800
TZNAME:AWST
DTSTART:20250101T000000
END:STANDARD
END:VTIMEZONE
BEGIN:VEVENT
DTSTART;TZID=Australia/Sydney:20260708T120000
DTEND;TZID=Australia/Sydney:20260708T150000
DTSTAMP:20260423T111714
CREATED:20260119T053734Z
LAST-MODIFIED:20260119T053734Z
UID:10000293-1783512000-1783522800@faaa.au
SUMMARY:2026 FAAA Brisbane Metro Community State of Origin Lunch
DESCRIPTION:Upcoming webinar\n				\n				\n						\n				\n				\n				\n					AFCA: The Consumer Experience				\n				\n				\n					\n				\n		\n					\n		\n		\n				\n				\n							\n			\n						\n		\n						\n				\n				\n				\n									Wednesday 20 May 								\n				\n				\n		\n				\n				\n							\n			\n						\n		\n						\n				\n				\n				\n									12:00pm – 1:00pm AEST 								\n				\n				\n		\n				\n				\n							\n			\n						\n		\n						\n				\n				\n				\n									Up to 1 CPD hour available  								\n				\n				\n		\n				\n				\n									\n					\n						\n									Register now\n					\n					\n				\n								\n				\n				\n				\n				\n									For guidance on creating your FAAA Learn account\, click here 								\n				\n				\n		\n				\n				\n																														\n				\n				\n					\n				\n		\n					\n		\n				\n				\n					Session Overview				\n				\n				\n				\n							\n			\n						\n		\n						\n				\n				\n				\n									Gain practical insights into what consumers experience when lodging a complaint with AFCA and learn how to support them with clarity and confidence throughout the process. This webinar breaks down each stage of the journey and offers simple\, effective strategies to guide consumers through challenges and expectations. You’ll also discover key takeaways that can strengthen your own advice approach\, helping you deliver clearer communication\, better outcomes\, and a more supportive consumer experience. 								\n				\n				\n					\n				\n		\n					\n				\n				\n					Meet your speakers				\n				\n					\n				\n		\n					\n		\n				\n				\n																														\n				\n				\n		\n				\n				\n									Neil Kendall OAM CFP® 								\n				\n				\n				\n									Adviser\, Tupicoffs 								\n				\n				\n				\n									Neil joined Tupicoffs in 2002 after spending many years with major financial institutions. Neil has been Chair of the Financial Planning Association Board and the Chair of the Financial Planning Standards Board Council. During his role as an FPA Director\, he has been pivotal in the FPA’s evolution into a professional association and in raising standards for members. Neil worked with members\, government and lawmakers to ensure the profession evolved. During his time as Chair of FPSB\, Neil was involved in lifting the standards of financial planning and in the management of the CERTIFIED FINANCIAL PLANNER® designation globally.
URL:https://faaa.au/event/2026-faaa-brisbane-metro-community-state-of-origin-lunch/
LOCATION:Brisbane Convention & Exhibition Centre
CATEGORIES:Brisbane Metro Community
ATTACH;FMTTYPE=image/png:https://faaa.au/wp-content/uploads/2026/01/SOO.png
END:VEVENT
BEGIN:VEVENT
DTSTART;TZID=Australia/Sydney:20260716T140000
DTEND;TZID=Australia/Sydney:20260716T150000
DTSTAMP:20260423T111714
CREATED:20260319T024214Z
LAST-MODIFIED:20260319T025040Z
UID:10000320-1784210400-1784214000@faaa.au
SUMMARY:Webinar: Retirement portfolio construction in the age of lifetime income
DESCRIPTION:Upcoming webinar\n				\n				\n						\n				\n				\n				\n					AFCA: The Consumer Experience				\n				\n				\n					\n				\n		\n					\n		\n		\n				\n				\n							\n			\n						\n		\n						\n				\n				\n				\n									Wednesday 20 May 								\n				\n				\n		\n				\n				\n							\n			\n						\n		\n						\n				\n				\n				\n									12:00pm – 1:00pm AEST 								\n				\n				\n		\n				\n				\n							\n			\n						\n		\n						\n				\n				\n				\n									Up to 1 CPD hour available  								\n				\n				\n		\n				\n				\n									\n					\n						\n									Register now\n					\n					\n				\n								\n				\n				\n				\n				\n									For guidance on creating your FAAA Learn account\, click here 								\n				\n				\n		\n				\n				\n																														\n				\n				\n					\n				\n		\n					\n		\n				\n				\n					Session Overview				\n				\n				\n				\n							\n			\n						\n		\n						\n				\n				\n				\n									Gain practical insights into what consumers experience when lodging a complaint with AFCA and learn how to support them with clarity and confidence throughout the process. This webinar breaks down each stage of the journey and offers simple\, effective strategies to guide consumers through challenges and expectations. You’ll also discover key takeaways that can strengthen your own advice approach\, helping you deliver clearer communication\, better outcomes\, and a more supportive consumer experience. 								\n				\n				\n					\n				\n		\n					\n				\n				\n					Meet your speakers				\n				\n					\n				\n		\n					\n		\n				\n				\n																														\n				\n				\n		\n				\n				\n									Neil Kendall OAM CFP® 								\n				\n				\n				\n									Adviser\, Tupicoffs 								\n				\n				\n				\n									Neil joined Tupicoffs in 2002 after spending many years with major financial institutions. Neil has been Chair of the Financial Planning Association Board and the Chair of the Financial Planning Standards Board Council. During his role as an FPA Director\, he has been pivotal in the FPA’s evolution into a professional association and in raising standards for members. Neil worked with members\, government and lawmakers to ensure the profession evolved. During his time as Chair of FPSB\, Neil was involved in lifting the standards of financial planning and in the management of the CERTIFIED FINANCIAL PLANNER® designation globally.
URL:https://faaa.au/event/webinar-retirement-portfolio-construction-in-the-age-of-lifetime-income/
CATEGORIES:Virtual
ATTACH;FMTTYPE=image/png:https://faaa.au/wp-content/uploads/2026/03/Website-Events-Feature-Image-4.png
END:VEVENT
BEGIN:VEVENT
DTSTART;TZID=Australia/Perth:20260819T160000
DTEND;TZID=Australia/Perth:20260819T180000
DTSTAMP:20260423T111714
CREATED:20260327T015108Z
LAST-MODIFIED:20260327T015108Z
UID:10000324-1787155200-1787162400@faaa.au
SUMMARY:FAAA WA Inspire GROW Series 2026 - Session 1
DESCRIPTION:Upcoming webinar\n				\n				\n						\n				\n				\n				\n					AFCA: The Consumer Experience				\n				\n				\n					\n				\n		\n					\n		\n		\n				\n				\n							\n			\n						\n		\n						\n				\n				\n				\n									Wednesday 20 May 								\n				\n				\n		\n				\n				\n							\n			\n						\n		\n						\n				\n				\n				\n									12:00pm – 1:00pm AEST 								\n				\n				\n		\n				\n				\n							\n			\n						\n		\n						\n				\n				\n				\n									Up to 1 CPD hour available  								\n				\n				\n		\n				\n				\n									\n					\n						\n									Register now\n					\n					\n				\n								\n				\n				\n				\n				\n									For guidance on creating your FAAA Learn account\, click here 								\n				\n				\n		\n				\n				\n																														\n				\n				\n					\n				\n		\n					\n		\n				\n				\n					Session Overview				\n				\n				\n				\n							\n			\n						\n		\n						\n				\n				\n				\n									Gain practical insights into what consumers experience when lodging a complaint with AFCA and learn how to support them with clarity and confidence throughout the process. This webinar breaks down each stage of the journey and offers simple\, effective strategies to guide consumers through challenges and expectations. You’ll also discover key takeaways that can strengthen your own advice approach\, helping you deliver clearer communication\, better outcomes\, and a more supportive consumer experience. 								\n				\n				\n					\n				\n		\n					\n				\n				\n					Meet your speakers				\n				\n					\n				\n		\n					\n		\n				\n				\n																														\n				\n				\n		\n				\n				\n									Neil Kendall OAM CFP® 								\n				\n				\n				\n									Adviser\, Tupicoffs 								\n				\n				\n				\n									Neil joined Tupicoffs in 2002 after spending many years with major financial institutions. Neil has been Chair of the Financial Planning Association Board and the Chair of the Financial Planning Standards Board Council. During his role as an FPA Director\, he has been pivotal in the FPA’s evolution into a professional association and in raising standards for members. Neil worked with members\, government and lawmakers to ensure the profession evolved. During his time as Chair of FPSB\, Neil was involved in lifting the standards of financial planning and in the management of the CERTIFIED FINANCIAL PLANNER® designation globally.
URL:https://faaa.au/event/faaa-wa-inspire-grow-series-2026-session-1/
LOCATION:Telethon Speech and Hearing\, 36 Dodd Street\, Wembley WA
CATEGORIES:Western Australia State Community
ATTACH;FMTTYPE=image/png:https://faaa.au/wp-content/uploads/2026/03/Grow26-image.png
END:VEVENT
BEGIN:VEVENT
DTSTART;TZID=Australia/Perth:20260916T160000
DTEND;TZID=Australia/Perth:20260916T180000
DTSTAMP:20260423T111714
CREATED:20260327T015431Z
LAST-MODIFIED:20260327T015431Z
UID:10000325-1789574400-1789581600@faaa.au
SUMMARY:FAAA WA Inspire GROW Series 2026 - Session 2
DESCRIPTION:Upcoming webinar\n				\n				\n						\n				\n				\n				\n					AFCA: The Consumer Experience				\n				\n				\n					\n				\n		\n					\n		\n		\n				\n				\n							\n			\n						\n		\n						\n				\n				\n				\n									Wednesday 20 May 								\n				\n				\n		\n				\n				\n							\n			\n						\n		\n						\n				\n				\n				\n									12:00pm – 1:00pm AEST 								\n				\n				\n		\n				\n				\n							\n			\n						\n		\n						\n				\n				\n				\n									Up to 1 CPD hour available  								\n				\n				\n		\n				\n				\n									\n					\n						\n									Register now\n					\n					\n				\n								\n				\n				\n				\n				\n									For guidance on creating your FAAA Learn account\, click here 								\n				\n				\n		\n				\n				\n																														\n				\n				\n					\n				\n		\n					\n		\n				\n				\n					Session Overview				\n				\n				\n				\n							\n			\n						\n		\n						\n				\n				\n				\n									Gain practical insights into what consumers experience when lodging a complaint with AFCA and learn how to support them with clarity and confidence throughout the process. This webinar breaks down each stage of the journey and offers simple\, effective strategies to guide consumers through challenges and expectations. You’ll also discover key takeaways that can strengthen your own advice approach\, helping you deliver clearer communication\, better outcomes\, and a more supportive consumer experience. 								\n				\n				\n					\n				\n		\n					\n				\n				\n					Meet your speakers				\n				\n					\n				\n		\n					\n		\n				\n				\n																														\n				\n				\n		\n				\n				\n									Neil Kendall OAM CFP® 								\n				\n				\n				\n									Adviser\, Tupicoffs 								\n				\n				\n				\n									Neil joined Tupicoffs in 2002 after spending many years with major financial institutions. Neil has been Chair of the Financial Planning Association Board and the Chair of the Financial Planning Standards Board Council. During his role as an FPA Director\, he has been pivotal in the FPA’s evolution into a professional association and in raising standards for members. Neil worked with members\, government and lawmakers to ensure the profession evolved. During his time as Chair of FPSB\, Neil was involved in lifting the standards of financial planning and in the management of the CERTIFIED FINANCIAL PLANNER® designation globally.
URL:https://faaa.au/event/faaa-wa-inspire-grow-series-2026-session-2/
LOCATION:Telethon Speech and Hearing\, 36 Dodd Street\, Wembley WA
CATEGORIES:Western Australia State Community
ATTACH;FMTTYPE=image/png:https://faaa.au/wp-content/uploads/2026/03/Grow26-image.png
END:VEVENT
BEGIN:VEVENT
DTSTART;TZID=Australia/Perth:20261028T160000
DTEND;TZID=Australia/Perth:20261028T180000
DTSTAMP:20260423T111714
CREATED:20260327T015515Z
LAST-MODIFIED:20260327T015515Z
UID:10000326-1793203200-1793210400@faaa.au
SUMMARY:FAAA WA Inspire GROW Series 2026 - Session 3
DESCRIPTION:Upcoming webinar\n				\n				\n						\n				\n				\n				\n					AFCA: The Consumer Experience				\n				\n				\n					\n				\n		\n					\n		\n		\n				\n				\n							\n			\n						\n		\n						\n				\n				\n				\n									Wednesday 20 May 								\n				\n				\n		\n				\n				\n							\n			\n						\n		\n						\n				\n				\n				\n									12:00pm – 1:00pm AEST 								\n				\n				\n		\n				\n				\n							\n			\n						\n		\n						\n				\n				\n				\n									Up to 1 CPD hour available  								\n				\n				\n		\n				\n				\n									\n					\n						\n									Register now\n					\n					\n				\n								\n				\n				\n				\n				\n									For guidance on creating your FAAA Learn account\, click here 								\n				\n				\n		\n				\n				\n																														\n				\n				\n					\n				\n		\n					\n		\n				\n				\n					Session Overview				\n				\n				\n				\n							\n			\n						\n		\n						\n				\n				\n				\n									Gain practical insights into what consumers experience when lodging a complaint with AFCA and learn how to support them with clarity and confidence throughout the process. This webinar breaks down each stage of the journey and offers simple\, effective strategies to guide consumers through challenges and expectations. You’ll also discover key takeaways that can strengthen your own advice approach\, helping you deliver clearer communication\, better outcomes\, and a more supportive consumer experience. 								\n				\n				\n					\n				\n		\n					\n				\n				\n					Meet your speakers				\n				\n					\n				\n		\n					\n		\n				\n				\n																														\n				\n				\n		\n				\n				\n									Neil Kendall OAM CFP® 								\n				\n				\n				\n									Adviser\, Tupicoffs 								\n				\n				\n				\n									Neil joined Tupicoffs in 2002 after spending many years with major financial institutions. Neil has been Chair of the Financial Planning Association Board and the Chair of the Financial Planning Standards Board Council. During his role as an FPA Director\, he has been pivotal in the FPA’s evolution into a professional association and in raising standards for members. Neil worked with members\, government and lawmakers to ensure the profession evolved. During his time as Chair of FPSB\, Neil was involved in lifting the standards of financial planning and in the management of the CERTIFIED FINANCIAL PLANNER® designation globally.
URL:https://faaa.au/event/faaa-wa-inspire-grow-series-2026-session-3/
LOCATION:Telethon Speech and Hearing\, 36 Dodd Street\, Wembley WA
CATEGORIES:Western Australia State Community
ATTACH;FMTTYPE=image/png:https://faaa.au/wp-content/uploads/2026/03/Grow26-image.png
END:VEVENT
END:VCALENDAR