BEGIN:VCALENDAR
VERSION:2.0
PRODID:-//Financial Advice Association Australia - ECPv6.15.20//NONSGML v1.0//EN
CALSCALE:GREGORIAN
METHOD:PUBLISH
X-WR-CALNAME:Financial Advice Association Australia
X-ORIGINAL-URL:https://faaa.au
X-WR-CALDESC:Events for Financial Advice Association Australia
REFRESH-INTERVAL;VALUE=DURATION:PT1H
X-Robots-Tag:noindex
X-PUBLISHED-TTL:PT1H
BEGIN:VTIMEZONE
TZID:Australia/Sydney
BEGIN:STANDARD
TZOFFSETFROM:+1100
TZOFFSETTO:+1000
TZNAME:AEST
DTSTART:20250405T160000
END:STANDARD
BEGIN:DAYLIGHT
TZOFFSETFROM:+1000
TZOFFSETTO:+1100
TZNAME:AEDT
DTSTART:20251004T160000
END:DAYLIGHT
BEGIN:STANDARD
TZOFFSETFROM:+1100
TZOFFSETTO:+1000
TZNAME:AEST
DTSTART:20260404T160000
END:STANDARD
BEGIN:DAYLIGHT
TZOFFSETFROM:+1000
TZOFFSETTO:+1100
TZNAME:AEDT
DTSTART:20261003T160000
END:DAYLIGHT
BEGIN:STANDARD
TZOFFSETFROM:+1100
TZOFFSETTO:+1000
TZNAME:AEST
DTSTART:20270403T160000
END:STANDARD
BEGIN:DAYLIGHT
TZOFFSETFROM:+1000
TZOFFSETTO:+1100
TZNAME:AEDT
DTSTART:20271002T160000
END:DAYLIGHT
END:VTIMEZONE
BEGIN:VEVENT
DTSTART;TZID=Australia/Sydney:20260320T150000
DTEND;TZID=Australia/Sydney:20260320T170000
DTSTAMP:20260420T202530
CREATED:20260220T041709Z
LAST-MODIFIED:20260220T043614Z
UID:10000308-1774018800-1774026000@faaa.au
SUMMARY:FAAA Tasmania Chapter Bowls Day
DESCRIPTION:Upcoming event\nFAAA Tasmania Chapter Bowls Day\n\nFriday 20 March 2026\n3:00pm-5:00pm\nSandy Bay Bowls & Community Club – 16 Margaret Street\, Sandy Bay TAS 7005\n\n\nMember registration\n\n\nNon member registration\n \nFAAA Event Code of Conduct \n \nOverview\nJoin the FAAA Tasmania Chapter Committee for a relaxed and social afternoon on the green. \nJoin other local members for an afternoon of outdoor fun and friendly competition with a game of barefoot bowls. No experience is necessary — this event is about connection\, laughs and having a go! Enjoy social barefoot bowls from 3:00pm to 5:00pm\, with all bowls provided\, guidance for first‑timers\, and drinks and nibbles included. \nWhether you are a seasoned bowler or trying it for the first time\, this is a great opportunity to unwind and connect with fellow members in a relaxed setting. \nWe can’t wait to see you there! \nFAAA Tasmania Chapter Committee \nMeet your speakers\n \nName \nTitle\, Company \nBio \n \nName \nTitle\, Company \nBio \nCost\nMembers: $10 \nNon-Members: $20 \nThank you to our event supporters
URL:https://faaa.au/event/faaa-tasmania-chapter-bowls-day/
LOCATION:Sandy Bay Bowls & Community Club – 16 Margaret Street\, Sandy Bay TAS
CATEGORIES:Tasmania Chapter
ATTACH;FMTTYPE=image/png:https://faaa.au/wp-content/uploads/2024/04/Albury-Wodonga-Bowls.png
END:VEVENT
END:VCALENDAR